BEGIN:VCALENDAR
VERSION:2.0
PRODID:-//Tukios.com/
BEGIN:VEVENT
UID:174f430f-af20-4573-80c9-481d1765ab7b@www.hearnefuneralhome.com
DTSTAMP:20260425T195444Z
DTSTART:20260502T170000Z
DTEND:20260502T180000Z
SUMMARY:Funeral Service
DESCRIPTION:
URL:https://www.hearnefuneralhome.com/obituaries/linda-helton
LOCATION:Hearne Funeral Home 125 West College Avenue  Stanton KY 40380
GEO:37.845397;-83.8606065
END:VEVENT
END:VCALENDAR