BEGIN:VCALENDAR
VERSION:2.0
PRODID:-//Tukios.com/
BEGIN:VEVENT
UID:88556495-9eb2-46aa-966c-2afca8c06768@www.hearnefuneralhome.com
DTSTAMP:20260425T194710Z
DTSTART:20260501T220000Z
DTEND:20260502T010000Z
SUMMARY:Visitation
DESCRIPTION:
URL:https://www.hearnefuneralhome.com/obituaries/linda-helton
LOCATION:Hearne Funeral Home 125 West College Avenue  Stanton KY 40380
GEO:37.845397;-83.8606065
END:VEVENT
END:VCALENDAR